BEGIN:VCALENDAR
VERSION:2.0
PRODID:-//SAINT-AVERTIN SPORTS - ECPv6.15.11//NONSGML v1.0//EN
CALSCALE:GREGORIAN
METHOD:PUBLISH
X-WR-CALNAME:SAINT-AVERTIN SPORTS
X-ORIGINAL-URL:https://saint-avertin-sports.fr
X-WR-CALDESC:Évènements pour SAINT-AVERTIN SPORTS
REFRESH-INTERVAL;VALUE=DURATION:PT1H
X-Robots-Tag:noindex
X-PUBLISHED-TTL:PT1H
BEGIN:VTIMEZONE
TZID:Europe/Paris
BEGIN:DAYLIGHT
TZOFFSETFROM:+0100
TZOFFSETTO:+0200
TZNAME:CEST
DTSTART:20210328T010000
END:DAYLIGHT
BEGIN:STANDARD
TZOFFSETFROM:+0200
TZOFFSETTO:+0100
TZNAME:CET
DTSTART:20211031T010000
END:STANDARD
BEGIN:DAYLIGHT
TZOFFSETFROM:+0100
TZOFFSETTO:+0200
TZNAME:CEST
DTSTART:20220327T010000
END:DAYLIGHT
BEGIN:STANDARD
TZOFFSETFROM:+0200
TZOFFSETTO:+0100
TZNAME:CET
DTSTART:20221030T010000
END:STANDARD
BEGIN:DAYLIGHT
TZOFFSETFROM:+0100
TZOFFSETTO:+0200
TZNAME:CEST
DTSTART:20230326T010000
END:DAYLIGHT
BEGIN:STANDARD
TZOFFSETFROM:+0200
TZOFFSETTO:+0100
TZNAME:CET
DTSTART:20231029T010000
END:STANDARD
END:VTIMEZONE
BEGIN:VEVENT
DTSTART;TZID=Europe/Paris:20220212T080000
DTEND;TZID=Europe/Paris:20220212T180000
DTSTAMP:20260422T191001
CREATED:20220128T222425Z
LAST-MODIFIED:20220128T222927Z
UID:6309-1644652800-1644688800@saint-avertin-sports.fr
SUMMARY:Tennis de table Handisport
DESCRIPTION:Le samedi 12 février 2022 se dérouleront au gymnase Henri Depierre – Les Aubuis  : \n\nLe 3ème tour du critérium national 3 Nord Ouest\nL’inter-régions Centre-Normandie.\n\n 
URL:https://saint-avertin-sports.fr/event/tennis-de-table-handisport/
LOCATION:Les Aubuis\, 31 rue Frédéric JOLIOT-CURIE\, SAINT-AVERTIN\, 37550\, France
CATEGORIES:Match
ATTACH;FMTTYPE=image/png:https://saint-avertin-sports.fr/wp-content/uploads/2022/01/Affiche_3eTour_CFHandi_12-02-2022_St-Avertin.png
ORGANIZER;CN="Tennis de Table":MAILTO:secretaire@tennisdetable.saint-avertin-sports.fr
END:VEVENT
END:VCALENDAR