BEGIN:VCALENDAR
VERSION:2.0
PRODID:-//SAINT-AVERTIN SPORTS - ECPv6.15.11//NONSGML v1.0//EN
CALSCALE:GREGORIAN
METHOD:PUBLISH
X-WR-CALNAME:SAINT-AVERTIN SPORTS
X-ORIGINAL-URL:https://saint-avertin-sports.fr
X-WR-CALDESC:Évènements pour SAINT-AVERTIN SPORTS
REFRESH-INTERVAL;VALUE=DURATION:PT1H
X-Robots-Tag:noindex
X-PUBLISHED-TTL:PT1H
BEGIN:VTIMEZONE
TZID:Europe/Paris
BEGIN:DAYLIGHT
TZOFFSETFROM:+0100
TZOFFSETTO:+0200
TZNAME:CEST
DTSTART:20210328T010000
END:DAYLIGHT
BEGIN:STANDARD
TZOFFSETFROM:+0200
TZOFFSETTO:+0100
TZNAME:CET
DTSTART:20211031T010000
END:STANDARD
BEGIN:DAYLIGHT
TZOFFSETFROM:+0100
TZOFFSETTO:+0200
TZNAME:CEST
DTSTART:20220327T010000
END:DAYLIGHT
BEGIN:STANDARD
TZOFFSETFROM:+0200
TZOFFSETTO:+0100
TZNAME:CET
DTSTART:20221030T010000
END:STANDARD
BEGIN:DAYLIGHT
TZOFFSETFROM:+0100
TZOFFSETTO:+0200
TZNAME:CEST
DTSTART:20230326T010000
END:DAYLIGHT
BEGIN:STANDARD
TZOFFSETFROM:+0200
TZOFFSETTO:+0100
TZNAME:CET
DTSTART:20231029T010000
END:STANDARD
END:VTIMEZONE
BEGIN:VEVENT
DTSTART;TZID=Europe/Paris:20221119T100000
DTEND;TZID=Europe/Paris:20221119T120000
DTSTAMP:20260423T192712
CREATED:20221030T211521Z
LAST-MODIFIED:20221030T211659Z
UID:6654-1668852000-1668859200@saint-avertin-sports.fr
SUMMARY:AG Section Yoga-Sophrologie
DESCRIPTION:Les dirigeants invitent tous les adhérents de la section à l’Assemblée Générale annuelle.
URL:https://saint-avertin-sports.fr/event/ag-section-yoga-sophrologie/
LOCATION:Les Aubuis\, 31 rue Frédéric JOLIOT-CURIE\, SAINT-AVERTIN\, 37550\, France
CATEGORIES:AG
ATTACH;FMTTYPE=image/png:https://saint-avertin-sports.fr/wp-content/uploads/2018/07/logo-YogaV2.png
END:VEVENT
END:VCALENDAR